BEGIN:VCALENDAR
VERSION:2.0
PRODID:-//Mundart - ECPv6.15.20//NONSGML v1.0//EN
CALSCALE:GREGORIAN
METHOD:PUBLISH
X-WR-CALNAME:Mundart
X-ORIGINAL-URL:https://mundart-gladbeck.de
X-WR-CALDESC:Veranstaltungen für Mundart
REFRESH-INTERVAL;VALUE=DURATION:PT1H
X-Robots-Tag:noindex
X-PUBLISHED-TTL:PT1H
BEGIN:VTIMEZONE
TZID:UTC
BEGIN:STANDARD
TZOFFSETFROM:+0000
TZOFFSETTO:+0000
TZNAME:UTC
DTSTART:20170101T000000
END:STANDARD
END:VTIMEZONE
BEGIN:VEVENT
DTSTART;TZID=UTC:20180415T170000
DTEND;TZID=UTC:20180415T220000
DTSTAMP:20260426T072216
CREATED:20180323T095339Z
LAST-MODIFIED:20180408T065235Z
UID:779-1523811600-1523829600@mundart-gladbeck.de
SUMMARY:GAMBAS TAG
DESCRIPTION:teilen  teilen teilen teilen teilen E-Mail \n\n\nvon 17.00 – 22.00 Uhr\nPortion Gambas mit Dip und Brot: 12\,90€ pro Person\nNoch eine Portion gefällig? ….nur 8\,90€ pro Person\n 
URL:https://mundart-gladbeck.de/event/gambas-tag/
LOCATION:Mundart\, Bottroper Str. 17\, Gladbeck\, 45964\, Deutschland
CATEGORIES:GAMBAS TAG
ATTACH;FMTTYPE=image/jpeg:https://mundart-gladbeck.de/wp-content/uploads/2018/03/Bruschetta2.jpg
END:VEVENT
BEGIN:VEVENT
DTSTART;TZID=UTC:20180430T200000
DTEND;TZID=UTC:20180501T040000
DTSTAMP:20260426T072216
CREATED:20180408T060438Z
LAST-MODIFIED:20180527T173209Z
UID:877-1525118400-1525147200@mundart-gladbeck.de
SUMMARY:Tanz in den Mai 2018
DESCRIPTION:teilen  teilen teilen teilen teilen E-Mail Hallo zusammen!\nAuch dieses Jahr feiern wir mit Euch wieder in den 1. Mai und machen daraus eine Mega-Party mit DJ\, Lightshow und Buffet. Zum Anheizen gibt es hier die Bilder aus dem letzten Jahr. Ich freu mich auf Euch!\nEuer Mundart-Team
URL:https://mundart-gladbeck.de/event/tanz-in-den-mai-2018/
LOCATION:Mundart\, Bottroper Str. 17\, Gladbeck\, 45964\, Deutschland
CATEGORIES:FEIERN
ATTACH;FMTTYPE=image/jpeg:https://mundart-gladbeck.de/wp-content/uploads/2018/04/MG_0062.jpg
END:VEVENT
END:VCALENDAR