BEGIN:VCALENDAR
VERSION:2.0
PRODID:-//Mundart - ECPv6.15.20//NONSGML v1.0//EN
CALSCALE:GREGORIAN
METHOD:PUBLISH
X-WR-CALNAME:Mundart
X-ORIGINAL-URL:https://mundart-gladbeck.de
X-WR-CALDESC:Veranstaltungen für Mundart
REFRESH-INTERVAL;VALUE=DURATION:PT1H
X-Robots-Tag:noindex
X-PUBLISHED-TTL:PT1H
BEGIN:VTIMEZONE
TZID:UTC
BEGIN:STANDARD
TZOFFSETFROM:+0000
TZOFFSETTO:+0000
TZNAME:UTC
DTSTART:20170101T000000
END:STANDARD
END:VTIMEZONE
BEGIN:VEVENT
DTSTART;VALUE=DATE:20181110
DTEND;VALUE=DATE:20181112
DTSTAMP:20260425T201728
CREATED:20181010T171848Z
LAST-MODIFIED:20181010T171848Z
UID:2301-1541836800-1541923199@mundart-gladbeck.de
SUMMARY:Geschlossene Gesellschaft
DESCRIPTION:teilen  teilen teilen teilen teilen E-Mail 
URL:https://mundart-gladbeck.de/event/geschlossene-gesellschaft-10112018/
LOCATION:Mundart\, Bottroper Str. 17\, Gladbeck\, 45964\, Deutschland
CATEGORIES:Geschlossene Gesellschaft
ATTACH;FMTTYPE=image/jpeg:https://mundart-gladbeck.de/wp-content/uploads/2018/03/reserviert.jpg
END:VEVENT
BEGIN:VEVENT
DTSTART;VALUE=DATE:20181117
DTEND;VALUE=DATE:20181119
DTSTAMP:20260425T201728
CREATED:20180529T060800Z
LAST-MODIFIED:20180529T060823Z
UID:2163-1542441600-1542527999@mundart-gladbeck.de
SUMMARY:Geschlossene Gesellschaft
DESCRIPTION:teilen  teilen teilen teilen teilen E-Mail 
URL:https://mundart-gladbeck.de/event/geschlossene-gesellschaft-17112018/
LOCATION:Mundart\, Bottroper Str. 17\, Gladbeck\, 45964\, Deutschland
CATEGORIES:Geschlossene Gesellschaft
ATTACH;FMTTYPE=image/jpeg:https://mundart-gladbeck.de/wp-content/uploads/2018/03/reserviert.jpg
END:VEVENT
END:VCALENDAR