BEGIN:VCALENDAR
VERSION:2.0
PRODID:-//Mundart - ECPv6.15.20//NONSGML v1.0//EN
CALSCALE:GREGORIAN
METHOD:PUBLISH
X-WR-CALNAME:Mundart
X-ORIGINAL-URL:https://mundart-gladbeck.de
X-WR-CALDESC:Veranstaltungen für Mundart
REFRESH-INTERVAL;VALUE=DURATION:PT1H
X-Robots-Tag:noindex
X-PUBLISHED-TTL:PT1H
BEGIN:VTIMEZONE
TZID:UTC
BEGIN:STANDARD
TZOFFSETFROM:+0000
TZOFFSETTO:+0000
TZNAME:UTC
DTSTART:20170101T000000
END:STANDARD
END:VTIMEZONE
BEGIN:VEVENT
DTSTART;VALUE=DATE:20181208
DTEND;VALUE=DATE:20181210
DTSTAMP:20260425T183318
CREATED:20181010T172044Z
LAST-MODIFIED:20181010T172044Z
UID:2304-1544256000-1544342399@mundart-gladbeck.de
SUMMARY:Geschlossene Gesellschaft
DESCRIPTION:teilen  teilen teilen teilen teilen E-Mail 
URL:https://mundart-gladbeck.de/event/geschlossene-gesellschaft-08122018/
LOCATION:Mundart\, Bottroper Str. 17\, Gladbeck\, 45964\, Deutschland
CATEGORIES:Geschlossene Gesellschaft
ATTACH;FMTTYPE=image/jpeg:https://mundart-gladbeck.de/wp-content/uploads/2018/03/reserviert.jpg
END:VEVENT
BEGIN:VEVENT
DTSTART;VALUE=DATE:20181223
DTEND;VALUE=DATE:20181225
DTSTAMP:20260425T183318
CREATED:20181010T174101Z
LAST-MODIFIED:20181010T175359Z
UID:2314-1545552000-1545638399@mundart-gladbeck.de
SUMMARY:Mundart X-Mas nach dem traditionellen Turmblasen - Eintritt frei!!
DESCRIPTION:teilen  teilen teilen teilen teilen E-Mail 
URL:https://mundart-gladbeck.de/event/mundart-x-mas-nach-dem-traditionellen-turmblasen-eintritt-frei/
LOCATION:Mundart\, Bottroper Str. 17\, Gladbeck\, 45964\, Deutschland
CATEGORIES:FEIERN
ATTACH;FMTTYPE=image/jpeg:https://mundart-gladbeck.de/wp-content/uploads/2018/10/Turmblasen_Mundart-Gladbeck.jpeg
END:VEVENT
BEGIN:VEVENT
DTSTART;VALUE=DATE:20181224
DTEND;VALUE=DATE:20181228
DTSTAMP:20260425T183318
CREATED:20181208T182258Z
LAST-MODIFIED:20181208T182729Z
UID:2435-1545638400-1545897599@mundart-gladbeck.de
SUMMARY:Betriebsferien!
DESCRIPTION:teilen  teilen teilen teilen teilen E-Mail 
URL:https://mundart-gladbeck.de/event/betriebsferien-weihnachten-2018/
LOCATION:Mundart\, Bottroper Str. 17\, Gladbeck\, 45964\, Deutschland
CATEGORIES:Betriebsferien
ATTACH;FMTTYPE=image/jpeg:https://mundart-gladbeck.de/wp-content/uploads/2018/12/cinnamon-stars-2991174_1920.jpg
END:VEVENT
BEGIN:VEVENT
DTSTART;VALUE=DATE:20181231
DTEND;VALUE=DATE:20190102
DTSTAMP:20260425T183318
CREATED:20181010T181614Z
LAST-MODIFIED:20181227T195416Z
UID:2323-1546243200-1546329599@mundart-gladbeck.de
SUMMARY:Sylvester im Mundart - Kartenvorverkauf ab dem 01.11.2018
DESCRIPTION:teilen  teilen teilen teilen teilen E-Mail  \n 
URL:https://mundart-gladbeck.de/event/sylvester-im-mundart-kartenvorverkauf-ab-dem-01-11-2018/
LOCATION:Mundart\, Bottroper Str. 17\, Gladbeck\, 45964\, Deutschland
CATEGORIES:FEIERN
ATTACH;FMTTYPE=image/jpeg:https://mundart-gladbeck.de/wp-content/uploads/2018/12/fireworks-sold.jpg
END:VEVENT
END:VCALENDAR