BEGIN:VCALENDAR
VERSION:2.0
PRODID:-//Mundart - ECPv6.15.20//NONSGML v1.0//EN
CALSCALE:GREGORIAN
METHOD:PUBLISH
X-ORIGINAL-URL:https://mundart-gladbeck.de
X-WR-CALDESC:Veranstaltungen für Mundart
REFRESH-INTERVAL;VALUE=DURATION:PT1H
X-Robots-Tag:noindex
X-PUBLISHED-TTL:PT1H
BEGIN:VTIMEZONE
TZID:UTC
BEGIN:STANDARD
TZOFFSETFROM:+0000
TZOFFSETTO:+0000
TZNAME:UTC
DTSTART:20180101T000000
END:STANDARD
END:VTIMEZONE
BEGIN:VEVENT
DTSTART;VALUE=DATE:20191005
DTEND;VALUE=DATE:20191007
DTSTAMP:20260425T004026
CREATED:20190713T182115Z
LAST-MODIFIED:20190713T182115Z
UID:2604-1570262400-1570348799@mundart-gladbeck.de
SUMMARY:Geschlossene Gesellschaft
DESCRIPTION:teilen  teilen teilen teilen teilen E-Mail 
URL:https://mundart-gladbeck.de/event/geschlossene-gesellschaft-05102019/
LOCATION:Mundart\, Bottroper Str. 17\, Gladbeck\, 45964\, Deutschland
CATEGORIES:Geschlossene Gesellschaft
ATTACH;FMTTYPE=image/jpeg:https://mundart-gladbeck.de/wp-content/uploads/2018/03/reserviert.jpg
END:VEVENT
END:VCALENDAR