BEGIN:VCALENDAR
VERSION:2.0
PRODID:-//Mundart - ECPv6.15.20//NONSGML v1.0//EN
CALSCALE:GREGORIAN
METHOD:PUBLISH
X-WR-CALNAME:Mundart
X-ORIGINAL-URL:https://mundart-gladbeck.de
X-WR-CALDESC:Veranstaltungen für Mundart
REFRESH-INTERVAL;VALUE=DURATION:PT1H
X-Robots-Tag:noindex
X-PUBLISHED-TTL:PT1H
BEGIN:VTIMEZONE
TZID:UTC
BEGIN:STANDARD
TZOFFSETFROM:+0000
TZOFFSETTO:+0000
TZNAME:UTC
DTSTART:20180101T000000
END:STANDARD
END:VTIMEZONE
BEGIN:VEVENT
DTSTART;VALUE=DATE:20191207
DTEND;VALUE=DATE:20191209
DTSTAMP:20260424T210323
CREATED:20190925T115240Z
LAST-MODIFIED:20190925T115240Z
UID:2646-1575705600-1575791999@mundart-gladbeck.de
SUMMARY:Geschlossene Gesellschaft
DESCRIPTION:teilen  teilen teilen teilen teilen E-Mail 
URL:https://mundart-gladbeck.de/event/geschlossene-gesellschaft-07122019/
LOCATION:Mundart\, Bottroper Str. 17\, Gladbeck\, 45964\, Deutschland
CATEGORIES:Geschlossene Gesellschaft
ATTACH;FMTTYPE=image/jpeg:https://mundart-gladbeck.de/wp-content/uploads/2018/03/reserviert.jpg
END:VEVENT
BEGIN:VEVENT
DTSTART;VALUE=DATE:20191214
DTEND;VALUE=DATE:20191216
DTSTAMP:20260424T210323
CREATED:20190713T182251Z
LAST-MODIFIED:20190713T182251Z
UID:2610-1576310400-1576396799@mundart-gladbeck.de
SUMMARY:Geschlossene Gesellschaft
DESCRIPTION:teilen  teilen teilen teilen teilen E-Mail 
URL:https://mundart-gladbeck.de/event/geschlossene-gesellschaft-14122019/
LOCATION:Mundart\, Bottroper Str. 17\, Gladbeck\, 45964\, Deutschland
CATEGORIES:Geschlossene Gesellschaft
ATTACH;FMTTYPE=image/jpeg:https://mundart-gladbeck.de/wp-content/uploads/2018/03/reserviert.jpg
END:VEVENT
BEGIN:VEVENT
DTSTART;VALUE=DATE:20191223
DTEND;VALUE=DATE:20191225
DTSTAMP:20260424T210323
CREATED:20190504T103703Z
LAST-MODIFIED:20190504T103710Z
UID:2547-1577088000-1577174399@mundart-gladbeck.de
SUMMARY:Mundart X-Mas nach dem traditionellen Turmblasen - Eintritt frei!!
DESCRIPTION:teilen  teilen teilen teilen teilen E-Mail 
URL:https://mundart-gladbeck.de/event/mundart-x-mas-nach-dem-traditionellen-turmblasen-eintritt-frei-2019/
LOCATION:Mundart\, Bottroper Str. 17\, Gladbeck\, 45964\, Deutschland
CATEGORIES:FEIERN
ATTACH;FMTTYPE=image/jpeg:https://mundart-gladbeck.de/wp-content/uploads/2018/10/Turmblasen_Mundart-Gladbeck.jpeg
END:VEVENT
BEGIN:VEVENT
DTSTART;VALUE=DATE:20191224
DTEND;VALUE=DATE:20191228
DTSTAMP:20260424T210323
CREATED:20191216T161011Z
LAST-MODIFIED:20191216T161011Z
UID:2742-1577174400-1577433599@mundart-gladbeck.de
SUMMARY:24.12. - 26.12. geschlossen
DESCRIPTION:teilen  teilen teilen teilen teilen E-Mail 
URL:https://mundart-gladbeck.de/event/2412-2612-geschlossen/
LOCATION:Mundart\, Bottroper Str. 17\, Gladbeck\, 45964\, Deutschland
CATEGORIES:Betriebsferien
ATTACH;FMTTYPE=image/jpeg:https://mundart-gladbeck.de/wp-content/uploads/2019/12/geschlossen-scaled.jpg
END:VEVENT
BEGIN:VEVENT
DTSTART;VALUE=DATE:20191227
DTEND;VALUE=DATE:20191231
DTSTAMP:20260424T210323
CREATED:20191216T161025Z
LAST-MODIFIED:20191216T161025Z
UID:2745-1577433600-1577692799@mundart-gladbeck.de
SUMMARY:27.12. - 29.12. geöffnet
DESCRIPTION:teilen  teilen teilen teilen teilen E-Mail 
URL:https://mundart-gladbeck.de/event/27-12-29-12-geoeffnet/
LOCATION:Mundart\, Bottroper Str. 17\, Gladbeck\, 45964\, Deutschland
CATEGORIES:Betriebsferien
ATTACH;FMTTYPE=image/jpeg:https://mundart-gladbeck.de/wp-content/uploads/2019/12/open.jpg
END:VEVENT
BEGIN:VEVENT
DTSTART;VALUE=DATE:20191231
DTEND;VALUE=DATE:20200102
DTSTAMP:20260424T210323
CREATED:20190504T101900Z
LAST-MODIFIED:20191215T192637Z
UID:2540-1577779200-1577865599@mundart-gladbeck.de
SUMMARY:Sylvester im Mundart - Karten restlos ausverkauft!
DESCRIPTION:teilen  teilen teilen teilen teilen E-Mail  \n 
URL:https://mundart-gladbeck.de/event/sylvester-im-mundart-kartenvorverkauf-ab-dem-01-11-2019/
LOCATION:Mundart\, Bottroper Str. 17\, Gladbeck\, 45964\, Deutschland
CATEGORIES:FEIERN
ATTACH;FMTTYPE=image/jpeg:https://mundart-gladbeck.de/wp-content/uploads/2019/05/Sylvester.jpg
END:VEVENT
END:VCALENDAR