BEGIN:VCALENDAR
VERSION:2.0
PRODID:-//Mundart - ECPv6.15.20//NONSGML v1.0//EN
CALSCALE:GREGORIAN
METHOD:PUBLISH
X-ORIGINAL-URL:https://mundart-gladbeck.de
X-WR-CALDESC:Veranstaltungen für Mundart
REFRESH-INTERVAL;VALUE=DURATION:PT1H
X-Robots-Tag:noindex
X-PUBLISHED-TTL:PT1H
BEGIN:VTIMEZONE
TZID:UTC
BEGIN:STANDARD
TZOFFSETFROM:+0000
TZOFFSETTO:+0000
TZNAME:UTC
DTSTART:20190101T000000
END:STANDARD
END:VTIMEZONE
BEGIN:VEVENT
DTSTART;VALUE=DATE:20200404
DTEND;VALUE=DATE:20200406
DTSTAMP:20260424T133856
CREATED:20200227T145207Z
LAST-MODIFIED:20200319T142727Z
UID:2797-1585987200-1586073599@mundart-gladbeck.de
SUMMARY:Corona-Storno
DESCRIPTION:teilen  teilen teilen teilen teilen E-Mail 
URL:https://mundart-gladbeck.de/event/geschlossene-gesellschaft-04042020/
LOCATION:Mundart\, Bottroper Str. 17\, Gladbeck\, 45964\, Deutschland
CATEGORIES:Geschlossene Gesellschaft
ATTACH;FMTTYPE=image/jpeg:https://mundart-gladbeck.de/wp-content/uploads/2020/03/cancelled-4930202_1920.jpg
END:VEVENT
BEGIN:VEVENT
DTSTART;VALUE=DATE:20200418
DTEND;VALUE=DATE:20200420
DTSTAMP:20260424T133856
CREATED:20200118T133306Z
LAST-MODIFIED:20200315T101725Z
UID:2767-1587196800-1587283199@mundart-gladbeck.de
SUMMARY:Corona-Storno
DESCRIPTION:teilen  teilen teilen teilen teilen E-Mail 
URL:https://mundart-gladbeck.de/event/geschlossene-gesellschaft-18042020/
LOCATION:Mundart\, Bottroper Str. 17\, Gladbeck\, 45964\, Deutschland
CATEGORIES:Geschlossene Gesellschaft
ATTACH;FMTTYPE=image/jpeg:https://mundart-gladbeck.de/wp-content/uploads/2020/03/cancelled-4930202_1920.jpg
END:VEVENT
BEGIN:VEVENT
DTSTART;VALUE=DATE:20200430
DTEND;VALUE=DATE:20200502
DTSTAMP:20260424T133856
CREATED:20200118T131416Z
LAST-MODIFIED:20200315T101836Z
UID:2760-1588233600-1588319999@mundart-gladbeck.de
SUMMARY:Tanz in den Mai im Mundart • Vorerst abgesagt wegen Corona!
DESCRIPTION:teilen  teilen teilen teilen teilen E-Mail  \n 
URL:https://mundart-gladbeck.de/event/tanz-in-den-mai-im-mundart-2020/
LOCATION:Mundart\, Bottroper Str. 17\, Gladbeck\, 45964\, Deutschland
CATEGORIES:FEIERN
ATTACH;FMTTYPE=image/jpeg:https://mundart-gladbeck.de/wp-content/uploads/2020/03/cancelled-4930202_1920.jpg
END:VEVENT
END:VCALENDAR