BEGIN:VCALENDAR
VERSION:2.0
PRODID:-//Mundart - ECPv6.15.20//NONSGML v1.0//EN
CALSCALE:GREGORIAN
METHOD:PUBLISH
X-ORIGINAL-URL:https://mundart-gladbeck.de
X-WR-CALDESC:Veranstaltungen für Mundart
REFRESH-INTERVAL;VALUE=DURATION:PT1H
X-Robots-Tag:noindex
X-PUBLISHED-TTL:PT1H
BEGIN:VTIMEZONE
TZID:UTC
BEGIN:STANDARD
TZOFFSETFROM:+0000
TZOFFSETTO:+0000
TZNAME:UTC
DTSTART:20190101T000000
END:STANDARD
END:VTIMEZONE
BEGIN:VEVENT
DTSTART;VALUE=DATE:20200604
DTEND;VALUE=DATE:20200606
DTSTAMP:20260424T094608
CREATED:20200603T064448Z
LAST-MODIFIED:20200603T070829Z
UID:2875-1591257600-1591343999@mundart-gladbeck.de
SUMMARY:Wiedereröffnung am 04.06.2020
DESCRIPTION:teilen  teilen teilen teilen teilen E-Mail Die Zeit haben wir genutzt\, etwas für Sie aufgeräumt und das Lokal auf Hochglanz poliert.\nWir freuen uns auf Sie!
URL:https://mundart-gladbeck.de/event/wiedereroeffnung-am-04-06-2020/
LOCATION:Mundart\, Bottroper Str. 17\, Gladbeck\, 45964\, Deutschland
CATEGORIES:FEIERN
END:VEVENT
END:VCALENDAR