BEGIN:VCALENDAR
VERSION:2.0
PRODID:-//Mundart - ECPv6.15.20//NONSGML v1.0//EN
CALSCALE:GREGORIAN
METHOD:PUBLISH
X-WR-CALNAME:Mundart
X-ORIGINAL-URL:https://mundart-gladbeck.de
X-WR-CALDESC:Veranstaltungen für Mundart
REFRESH-INTERVAL;VALUE=DURATION:PT1H
X-Robots-Tag:noindex
X-PUBLISHED-TTL:PT1H
BEGIN:VTIMEZONE
TZID:UTC
BEGIN:STANDARD
TZOFFSETFROM:+0000
TZOFFSETTO:+0000
TZNAME:UTC
DTSTART:20200101T000000
END:STANDARD
END:VTIMEZONE
BEGIN:VEVENT
DTSTART;VALUE=DATE:20210430
DTEND;VALUE=DATE:20210502
DTSTAMP:20260423T142547
CREATED:20200725T170334Z
LAST-MODIFIED:20200725T170623Z
UID:3526-1619769600-1619855999@mundart-gladbeck.de
SUMMARY:Tanz in den Mai im Mundart • KVV ab 01.04.2021
DESCRIPTION:teilen  teilen teilen teilen teilen E-Mail  \n 
URL:https://mundart-gladbeck.de/event/tanz-in-den-mai-im-mundart-kvv-ab-01042021/
LOCATION:Mundart\, Bottroper Str. 17\, Gladbeck\, 45964\, Deutschland
CATEGORIES:FEIERN
END:VEVENT
END:VCALENDAR