BEGIN:VCALENDAR
VERSION:2.0
PRODID:-//Mundart - ECPv6.15.20//NONSGML v1.0//EN
CALSCALE:GREGORIAN
METHOD:PUBLISH
X-WR-CALNAME:Mundart
X-ORIGINAL-URL:https://mundart-gladbeck.de
X-WR-CALDESC:Veranstaltungen für Mundart
REFRESH-INTERVAL;VALUE=DURATION:PT1H
X-Robots-Tag:noindex
X-PUBLISHED-TTL:PT1H
BEGIN:VTIMEZONE
TZID:UTC
BEGIN:STANDARD
TZOFFSETFROM:+0000
TZOFFSETTO:+0000
TZNAME:UTC
DTSTART:20200101T000000
END:STANDARD
END:VTIMEZONE
BEGIN:VEVENT
DTSTART;VALUE=DATE:20210508
DTEND;VALUE=DATE:20210510
DTSTAMP:20260423T125109
CREATED:20200227T145252Z
LAST-MODIFIED:20200725T165008Z
UID:2798-1620460800-1620547199@mundart-gladbeck.de
SUMMARY:Geschlossene Gesellschaft
DESCRIPTION:teilen  teilen teilen teilen teilen E-Mail 
URL:https://mundart-gladbeck.de/event/geschlossene-gesellschaft-08052021/
LOCATION:Mundart\, Bottroper Str. 17\, Gladbeck\, 45964\, Deutschland
CATEGORIES:Geschlossene Gesellschaft
ATTACH;FMTTYPE=image/jpeg:https://mundart-gladbeck.de/wp-content/uploads/2018/03/reserviert.jpg
END:VEVENT
BEGIN:VEVENT
DTSTART;VALUE=DATE:20210522
DTEND;VALUE=DATE:20210524
DTSTAMP:20260423T125109
CREATED:20200129T165948Z
LAST-MODIFIED:20200725T165049Z
UID:2784-1621670400-1621756799@mundart-gladbeck.de
SUMMARY:Geschlossene Gesellschaft
DESCRIPTION:teilen  teilen teilen teilen teilen E-Mail 
URL:https://mundart-gladbeck.de/event/geschlossene-gesellschaft-22052021/
LOCATION:Mundart\, Bottroper Str. 17\, Gladbeck\, 45964\, Deutschland
CATEGORIES:Geschlossene Gesellschaft
ATTACH;FMTTYPE=image/jpeg:https://mundart-gladbeck.de/wp-content/uploads/2018/03/reserviert.jpg
END:VEVENT
END:VCALENDAR