BEGIN:VCALENDAR
VERSION:2.0
PRODID:-//Mundart - ECPv6.15.20//NONSGML v1.0//EN
CALSCALE:GREGORIAN
METHOD:PUBLISH
X-ORIGINAL-URL:https://mundart-gladbeck.de
X-WR-CALDESC:Veranstaltungen für Mundart
REFRESH-INTERVAL;VALUE=DURATION:PT1H
X-Robots-Tag:noindex
X-PUBLISHED-TTL:PT1H
BEGIN:VTIMEZONE
TZID:UTC
BEGIN:STANDARD
TZOFFSETFROM:+0000
TZOFFSETTO:+0000
TZNAME:UTC
DTSTART:20210101T000000
END:STANDARD
END:VTIMEZONE
BEGIN:VEVENT
DTSTART;VALUE=DATE:20220806
DTEND;VALUE=DATE:20220808
DTSTAMP:20260422T040423
CREATED:20220213T120137Z
LAST-MODIFIED:20220213T120137Z
UID:3780-1659772800-1659859199@mundart-gladbeck.de
SUMMARY:Geschlossene Gesellschaft
DESCRIPTION:teilen  teilen teilen teilen teilen E-Mail 
URL:https://mundart-gladbeck.de/event/geschlossene-gesellschaft-06082022/
LOCATION:Mundart\, Bottroper Str. 17\, Gladbeck\, 45964\, Deutschland
CATEGORIES:Geschlossene Gesellschaft
ATTACH;FMTTYPE=image/jpeg:https://mundart-gladbeck.de/wp-content/uploads/2018/03/reserviert.jpg
END:VEVENT
BEGIN:VEVENT
DTSTART;VALUE=DATE:20220813
DTEND;VALUE=DATE:20220815
DTSTAMP:20260422T040423
CREATED:20220213T120523Z
LAST-MODIFIED:20220213T120657Z
UID:3783-1660377600-1660463999@mundart-gladbeck.de
SUMMARY:Geschlossene Gesellschaft
DESCRIPTION:teilen  teilen teilen teilen teilen E-Mail 
URL:https://mundart-gladbeck.de/event/geschlossene-gesellschaft-13082022/
LOCATION:Mundart\, Bottroper Str. 17\, Gladbeck\, 45964\, Deutschland
CATEGORIES:Geschlossene Gesellschaft
ATTACH;FMTTYPE=image/jpeg:https://mundart-gladbeck.de/wp-content/uploads/2018/03/reserviert.jpg
END:VEVENT
BEGIN:VEVENT
DTSTART;VALUE=DATE:20220820
DTEND;VALUE=DATE:20220822
DTSTAMP:20260422T040423
CREATED:20210701T110744Z
LAST-MODIFIED:20210701T110954Z
UID:3649-1660982400-1661068799@mundart-gladbeck.de
SUMMARY:Geschlossene Gesellschaft
DESCRIPTION:teilen  teilen teilen teilen teilen E-Mail 
URL:https://mundart-gladbeck.de/event/geschlossene-gesellschaft-20082022/
LOCATION:Mundart\, Bottroper Str. 17\, Gladbeck\, 45964\, Deutschland
CATEGORIES:Geschlossene Gesellschaft
ATTACH;FMTTYPE=image/jpeg:https://mundart-gladbeck.de/wp-content/uploads/2018/03/reserviert.jpg
END:VEVENT
BEGIN:VEVENT
DTSTART;VALUE=DATE:20220827
DTEND;VALUE=DATE:20220829
DTSTAMP:20260422T040423
CREATED:20220213T120808Z
LAST-MODIFIED:20220213T120808Z
UID:3786-1661587200-1661673599@mundart-gladbeck.de
SUMMARY:Geschlossene Gesellschaft
DESCRIPTION:teilen  teilen teilen teilen teilen E-Mail 
URL:https://mundart-gladbeck.de/event/geschlossene-gesellschaft-27082022/
LOCATION:Mundart\, Bottroper Str. 17\, Gladbeck\, 45964\, Deutschland
CATEGORIES:Geschlossene Gesellschaft
ATTACH;FMTTYPE=image/jpeg:https://mundart-gladbeck.de/wp-content/uploads/2018/03/reserviert.jpg
END:VEVENT
END:VCALENDAR